BEGIN:VCALENDAR
VERSION:2.0
PRODID:-//Mas du Cheval - ECPv6.15.20//NONSGML v1.0//EN
CALSCALE:GREGORIAN
METHOD:PUBLISH
X-WR-CALNAME:Mas du Cheval
X-ORIGINAL-URL:https://www.masducheval.com
X-WR-CALDESC:Évènements pour Mas du Cheval
REFRESH-INTERVAL;VALUE=DURATION:PT1H
X-Robots-Tag:noindex
X-PUBLISHED-TTL:PT1H
BEGIN:VTIMEZONE
TZID:UTC
BEGIN:STANDARD
TZOFFSETFROM:+0000
TZOFFSETTO:+0000
TZNAME:UTC
DTSTART:20250101T000000
END:STANDARD
END:VTIMEZONE
BEGIN:VEVENT
DTSTART;TZID=UTC:20260424T200000
DTEND;TZID=UTC:20260425T020000
DTSTAMP:20260424T120018
CREATED:20250811T115000Z
LAST-MODIFIED:20260310T091157Z
UID:10114-1777060800-1777082400@www.masducheval.com
SUMMARY:Les Apéros du Mas
DESCRIPTION:DJ BLACKY
URL:https://www.masducheval.com/evenement/les-aperos-du-mas-28/
LOCATION:Mas du Cheval\, Mas du Cheval\, Av. de l'Agau\, Lattes\, Herault\, 34970\, France
CATEGORIES:Apéros du Mas
ATTACH;FMTTYPE=image/png:https://www.masducheval.com/wp-content/uploads/2025/03/BLACKY2-canva.png
END:VEVENT
END:VCALENDAR