BEGIN:VCALENDAR
VERSION:2.0
PRODID:-//Mas du Cheval - ECPv6.15.20//NONSGML v1.0//EN
CALSCALE:GREGORIAN
METHOD:PUBLISH
X-ORIGINAL-URL:https://www.masducheval.com
X-WR-CALDESC:Évènements pour Mas du Cheval
REFRESH-INTERVAL;VALUE=DURATION:PT1H
X-Robots-Tag:noindex
X-PUBLISHED-TTL:PT1H
BEGIN:VTIMEZONE
TZID:UTC
BEGIN:STANDARD
TZOFFSETFROM:+0000
TZOFFSETTO:+0000
TZNAME:UTC
DTSTART:20240101T000000
END:STANDARD
END:VTIMEZONE
BEGIN:VEVENT
DTSTART;TZID=UTC:20250709T200000
DTEND;TZID=UTC:20250710T020000
DTSTAMP:20260422T230627
CREATED:20250505T082054Z
LAST-MODIFIED:20250703T102609Z
UID:9553-1752091200-1752112800@www.masducheval.com
SUMMARY:Summer Bachata au Mas du Cheval de 20h à 2h
DESCRIPTION:Au programme : Initiation débutant & cours bachata offert.<br>Suivi d’une soirée 100% Bachata. <br> \n<br> \nRéservation gratuite sur notre site\, à partir de 1 personne.<br> \nLes mineurs sont autorisés.
URL:https://www.masducheval.com/evenement/les-aperos-du-mas-6/
LOCATION:Mas du Cheval\, Mas du Cheval\, Av. de l'Agau\, Lattes\, Herault\, 34970\, France
CATEGORIES:Apéros du Mas,Événements à thème
END:VEVENT
BEGIN:VEVENT
DTSTART;TZID=UTC:20250711T080000
DTEND;TZID=UTC:20250711T170000
DTSTAMP:20260422T230627
CREATED:20250513T122005Z
LAST-MODIFIED:20250513T124006Z
UID:9590-1752220800-1752253200@www.masducheval.com
SUMMARY:LA SOIRÉE BLANCHE !
DESCRIPTION:Avec DJ Blacky.
URL:https://www.masducheval.com/evenement/9590/
LOCATION:Mas du Cheval\, Mas du Cheval\, Av. de l'Agau\, Lattes\, Herault\, 34970\, France
CATEGORIES:Apéros du Mas,Événements à thème
END:VEVENT
BEGIN:VEVENT
DTSTART;TZID=UTC:20250730T200000
DTEND;TZID=UTC:20250731T020000
DTSTAMP:20260422T230627
CREATED:20250722T130455Z
LAST-MODIFIED:20250722T130639Z
UID:10092-1753905600-1753927200@www.masducheval.com
SUMMARY:BACHATA SUMMER by MM's QUALITA
DESCRIPTION:Summer Bachata au Mas du Cheval de 20h à 2h <br> \nAu programme : \n<br>20h00 : Initiation Bachata 100% débutant – Pas besoin de venir avec un ou une partenaire ! \n<br>20h45 : Cours évolutif offert. \n<br>21h30 à 2h : Soirée 100% Bachata avec DJ Rez <br> \n<br> \nRéservation gratuite sur notre site\, à partir de 1 personne.<br> \nPour cette soirée\, les mineurs sont autorisés.
URL:https://www.masducheval.com/evenement/bachata-summer-by-mms-qualita/
LOCATION:Mas du Cheval\, Mas du Cheval\, Av. de l'Agau\, Lattes\, Herault\, 34970\, France
CATEGORIES:Événements à thème
END:VEVENT
END:VCALENDAR