BEGIN:VCALENDAR
VERSION:2.0
PRODID:-//Mas du Cheval - ECPv6.15.20//NONSGML v1.0//EN
CALSCALE:GREGORIAN
METHOD:PUBLISH
X-ORIGINAL-URL:https://www.masducheval.com
X-WR-CALDESC:Évènements pour Mas du Cheval
REFRESH-INTERVAL;VALUE=DURATION:PT1H
X-Robots-Tag:noindex
X-PUBLISHED-TTL:PT1H
BEGIN:VTIMEZONE
TZID:UTC
BEGIN:STANDARD
TZOFFSETFROM:+0000
TZOFFSETTO:+0000
TZNAME:UTC
DTSTART:20240101T000000
END:STANDARD
END:VTIMEZONE
BEGIN:VEVENT
DTSTART;TZID=UTC:20250813T200000
DTEND;TZID=UTC:20250814T020000
DTSTAMP:20260422T213717
CREATED:20250804T101741Z
LAST-MODIFIED:20250804T101741Z
UID:10098-1755115200-1755136800@www.masducheval.com
SUMMARY:BACHATA SUMMER #3
DESCRIPTION:🌞 MM’S qualità by Micka présente : le Summer Bachata au Mas du Cheval ! 💃🔥
URL:https://www.masducheval.com/evenement/bachata-summer-3/
LOCATION:Mas du Cheval\, Mas du Cheval\, Av. de l'Agau\, Lattes\, Herault\, 34970\, France
CATEGORIES:Événements à thème
END:VEVENT
END:VCALENDAR