BEGIN:VCALENDAR
VERSION:2.0
PRODID:-//Mas du Cheval - ECPv6.15.20//NONSGML v1.0//EN
CALSCALE:GREGORIAN
METHOD:PUBLISH
X-ORIGINAL-URL:https://www.masducheval.com
X-WR-CALDESC:Évènements pour Mas du Cheval
REFRESH-INTERVAL;VALUE=DURATION:PT1H
X-Robots-Tag:noindex
X-PUBLISHED-TTL:PT1H
BEGIN:VTIMEZONE
TZID:UTC
BEGIN:STANDARD
TZOFFSETFROM:+0000
TZOFFSETTO:+0000
TZNAME:UTC
DTSTART:20250101T000000
END:STANDARD
END:VTIMEZONE
BEGIN:VEVENT
DTSTART;TZID=UTC:20260612T200000
DTEND;TZID=UTC:20260613T020000
DTSTAMP:20260424T102517
CREATED:20250303T120744Z
LAST-MODIFIED:20260421T070136Z
UID:9246-1781294400-1781316000@www.masducheval.com
SUMMARY:FEDER AU MAS DU CHEVAL
DESCRIPTION:WARM UP JEAN ARAGON
URL:https://www.masducheval.com/evenement/les-aperos-du-mas/
LOCATION:Mas du Cheval\, Mas du Cheval\, Av. de l'Agau\, Lattes\, Herault\, 34970\, France
CATEGORIES:Apéros du Mas,Événements à thème
ATTACH;FMTTYPE=image/png:https://www.masducheval.com/wp-content/uploads/2025/03/ECRAN-FEDER.png
END:VEVENT
END:VCALENDAR